BEGIN:VCALENDAR
VERSION:2.0
PRODID:-//Ancient Wisdom - ECPv6.13.2.1//NONSGML v1.0//EN
CALSCALE:GREGORIAN
METHOD:PUBLISH
X-ORIGINAL-URL:https://theschoolofancientwisdom.org
X-WR-CALDESC:Events for Ancient Wisdom
REFRESH-INTERVAL;VALUE=DURATION:PT1H
X-Robots-Tag:noindex
X-PUBLISHED-TTL:PT1H
BEGIN:VTIMEZONE
TZID:Asia/Dili
BEGIN:STANDARD
TZOFFSETFROM:+0900
TZOFFSETTO:+0900
TZNAME:+09
DTSTART:20250101T000000
END:STANDARD
END:VTIMEZONE
BEGIN:VEVENT
DTSTART;VALUE=DATE:20250328
DTEND;VALUE=DATE:20250331
DTSTAMP:20260424T000525
CREATED:20250308T004341Z
LAST-MODIFIED:20250313T071702Z
UID:2364-1743120000-1743379199@theschoolofancientwisdom.org
SUMMARY:Women's Yoga and Ayurveda Retreat by Rutviq & Vathsala
DESCRIPTION:The programme is curated to offer a sacred space for mothers\, daughters and sisters to reconnect\, relax\, and celebrate their unique bond amidst nature’s healing embrace. \nIt’s time to simply be together\, exploring ancient methods of wellbeing\, gathering around cozy fires\, and sharing magical moments beneath star-filled skies\, creating memories that will be cherished forever and remind you of the simple joy of being together. \nThis retreat is for women of all ages\, and if your child is still a little munchkin\, it is appropriate for children aged 12 upwards. This is the very first time we’ll be opening our retreat to guests below 18 years old\, and we’re incredibly excited. \nWith a carefully curated balance of yoga\, art and ayurveda\, you’ll have the freedom to express\, bond deeper in your own time\, exploring the lands\, or simply lounging on your day beds and spending time together healing & nurturing. \nWhat’s Included in this retreat?\n\n2 Nights Luxurious Shared/single rooms\nNourishing\, Heartfelt Chef Prepared Meals\nAll Refreshments Included Throughout\nVinyasa Yoga\, pranayama face yoga sessions.\nAll Retreat Offerings & Activities Included*\nSacred Time in Nature\, with space to roam freely across our 11 acres of property.\nArt Therapy\, storytelling and Bonfire nights.\nA Total Digital Detox\n\nBelow are the total retreat costs based on room: \n\nSolo occupancy – ₹ 11900\nDouble Occupancy – ₹ 9800\nDorm – ₹ 7600\n\nEach room’s interior reflects our passion for other cultures. Natural materials and tactile draping create den-like cozy spaces\, each with its own distinct name and character. \nhttps://theschoolofancientwisdom.org/wp-content/uploads/2025/03/WhatsApp-Video-2025-03-07-at-09.10.43.mp4\nhttps://theschoolofancientwisdom.org/wp-content/uploads/2025/03/WhatsApp-Video-2025-03-07-at-09.10.37.mp4
URL:https://theschoolofancientwisdom.org/event/womens-yoga-and-ayurveda-retreat-by-rutviq-vathsala/
LOCATION:The School of Ancient Wisdom\, IVC Rd\, Devanahalli\, Bengaluru\, Karnataka\, 562110\, India
ATTACH;FMTTYPE=image/jpeg:https://theschoolofancientwisdom.org/wp-content/uploads/2025/03/WhatsApp-Image-2025-03-05-at-21.05.56.jpeg
ORGANIZER;CN="The School of Ancient Wisdom":MAILTO:theschoolofancientwisdom@gmail.com
END:VEVENT
BEGIN:VEVENT
DTSTART;VALUE=DATE:20250313
DTEND;VALUE=DATE:20250314
DTSTAMP:20260424T000525
CREATED:20250308T001806Z
LAST-MODIFIED:20250308T001834Z
UID:2357-1741824000-1741910399@theschoolofancientwisdom.org
SUMMARY:Thursday Sathsung
DESCRIPTION:  \nWeekly Sathsung series (every Thursday) was initiated by the founder (Mrs Manize Sait) and has been in practise ever since. With over 200 speakers\, this forum presents an opportunity to connect with seekers and speakers from across different domains. In the last 2 years this forum has witnessed prominent speakers from different walks of life who shared their knowledge and key insights covering various subjects such as Hoponoponno\, Art Therapy\, Healing power of Water\, Spiritual Intelligence\, 5 elements of Breathwork\, Hawaii Healing Methods\, Akashic records\, Acupressure Points\, Chanting Mantras\, Meditation\, Zen Philosophy\, Past Life Regression\, Agnihotra\, Vibronics\, Rituals and the Science behind it\, Vedic Astrology and much more.
URL:https://theschoolofancientwisdom.org/event/thursday-sathsung/
LOCATION:The School of Ancient Wisdom\, IVC Rd\, Devanahalli\, Bengaluru\, Karnataka\, 562110\, India
ATTACH;FMTTYPE=image/jpeg:https://theschoolofancientwisdom.org/wp-content/uploads/2023/04/Thursday-Satsung--e1681117871809.jpg
ORGANIZER;CN="The School of Ancient Wisdom":MAILTO:theschoolofancientwisdom@gmail.com
END:VEVENT
END:VCALENDAR